BEGIN:VCALENDAR
VERSION:2.0
X-WR-CALNAME: 吉森信 今後のライヴ日程
PRODID:GIGPRESS 2.0 WORDPRESS PLUGIN
CALSCALE:GREGORIAN
X-WR-TIMEZONE:Etc/GMT
METHOD:PUBLISH
BEGIN:VTIMEZONE
TZID:GMT
BEGIN:STANDARD
DTSTART:20071028T010000
TZOFFSETTO:+0000
TZOFFSETFROM:+0000
END:STANDARD
END:VTIMEZONE
BEGIN:VEVENT
SUMMARY:小川美潮＆吉森信 時間 TOKUZO 得三
DESCRIPTION:価格: 予約 4000円 当日 4500円. 会場の事務所: 小川美潮vo 吉森信pf. 
LOCATION:TOKUZO 得三\, 愛知県名古屋市千種区今池1-6-8 ブルースタービル2F\, 名古屋\, JP
UID:20260504T090000Z-1333-admin_tw@yoshimorimakoto.com
URL:https://yoshimorimakoto.com/schedule
DTSTART;VALUE=DATE-TIME;TZID=GMT:20260504T090000Z
DTEND;VALUE=DATE-TIME;TZID=GMT:20260504T090000Z
DTSTAMP:20260422T121923Z
END:VEVENT
BEGIN:VEVENT
SUMMARY:小川美潮＆吉森信 時間 服部緑地野外音楽堂
DESCRIPTION:価格: 4000円. 備考: 大阪、能勢にあるカフェ氣遊の35周年イベントです。  『出演者』有山じゅんじ、小川美潮&amp\;吉森信、金森幸介、金子マリ＆石井為人、渋谷毅、友部正人、NIMA、ふちがみとふなと、松井文、ロケットマツ  お問い合わせは、カフェ氣遊(027-734-3000) 
LOCATION:服部緑地野外音楽堂\, 大阪府豊中市服部緑地1-7\, 豊中\, JP
UID:20260505T030000Z-1334-admin_tw@yoshimorimakoto.com
URL:https://yoshimorimakoto.com/schedule
DTSTART;VALUE=DATE-TIME;TZID=GMT:20260505T030000Z
DTEND;VALUE=DATE-TIME;TZID=GMT:20260505T030000Z
DTSTAMP:20260422T121923Z
END:VEVENT
BEGIN:VEVENT
SUMMARY:小川美潮＆吉森信 時間 ネガポジ
DESCRIPTION:会場の事務所: 小川美潮vo 吉森信pf. 備考: この日は夕方の開催の予定です。詳細決まり次第発表します。 
LOCATION:ネガポジ\, 京都市右京区西院東今田町40\, 京都\, JP
UID:20260506-1335-admin_tw@yoshimorimakoto.com
URL:https://yoshimorimakoto.com/schedule
DTSTART;VALUE=DATE;TZID=GMT:20260506
DTEND;VALUE=DATE;TZID=GMT:20260506
DTSTAMP:20260422T121923Z
END:VEVENT
BEGIN:VEVENT
SUMMARY:おおはた雄一＆吉森信 時間 下北沢 ラ・カーニャ
DESCRIPTION:価格: 予約4000円 当日4500円. 会場の事務所: おおはた雄一(vo\,get) 吉森信(pf). 備考: 「ラカーニャで二人会 vol.2」  この日は、おおはた雄一さんと二人で、それぞれのソロと、二人での演奏とたっぷり三部構成でお届けします。下北の老舗、ラカーニャへぜひお運びください！ 
LOCATION:下北沢 ラ・カーニャ\, 東京都世田谷区北沢2-1-9 第二熊崎ビルB1\, 東京\, JP
UID:20260516T100000Z-1336-admin_tw@yoshimorimakoto.com
URL:https://yoshimorimakoto.com/schedule
DTSTART;VALUE=DATE-TIME;TZID=GMT:20260516T100000Z
DTEND;VALUE=DATE-TIME;TZID=GMT:20260516T100000Z
DTSTAMP:20260422T121923Z
END:VEVENT
BEGIN:VEVENT
SUMMARY:吉森信ピアノソロ 時間 bar 柑
DESCRIPTION:価格: 4000円. 会場の事務所: 吉森信（pf）. 備考: 福岡にあるこの柑というお店、昨年初めて演奏させてもらったのですが、音の響きが本当に素晴らしくて感激したのです。  土曜日の夕方17時からの開演で日帰りも可能ですし、遠方の皆様にもぜひお運びいただければ、と思っています。  ご予約は070-6926-8079(とものう様）にお願いいたします。 
LOCATION:bar 柑\, 福岡市南区大橋2丁目17-17\, 福岡\, JP
UID:20260530T080000Z-1332-admin_tw@yoshimorimakoto.com
URL:https://yoshimorimakoto.com/schedule
DTSTART;VALUE=DATE-TIME;TZID=GMT:20260530T080000Z
DTEND;VALUE=DATE-TIME;TZID=GMT:20260530T080000Z
DTSTAMP:20260422T121923Z
END:VEVENT
BEGIN:VEVENT
SUMMARY:吉森信ピアノソロ 時間 神保町 月花舎
DESCRIPTION:価格: 3000円+1drink. 会場の事務所: 吉森信 piano. 備考: 今回は前売り料金を設定しておりませんので、特に事前のご予約はなしでも当日来ていただければご来場いただけます。開場は19時でお席は自由席です。  本の街、神保町でまた皆さまのお越しを心からお待ちしています。どうぞよろしくお願いいたします。 
LOCATION:神保町 月花舎\, 東京都千代田区神田神保町3-5 ニュー徳栄ビル1F\, 東京\, JP
UID:20260701T103000Z-1337-admin_tw@yoshimorimakoto.com
URL:https://yoshimorimakoto.com/schedule
DTSTART;VALUE=DATE-TIME;TZID=GMT:20260701T103000Z
DTEND;VALUE=DATE-TIME;TZID=GMT:20260701T103000Z
DTSTAMP:20260422T121923Z
END:VEVENT
END:VCALENDAR